BEGIN:VCALENDAR
VERSION:2.0
PRODID:-//SpVgg Coschwa - ECPv6.0.6.2//NONSGML v1.0//EN
CALSCALE:GREGORIAN
METHOD:PUBLISH
X-WR-CALNAME:SpVgg Coschwa
X-ORIGINAL-URL:https://coschwa.de
X-WR-CALDESC:Veranstaltungen für SpVgg Coschwa
REFRESH-INTERVAL;VALUE=DURATION:PT1H
X-Robots-Tag:noindex
X-PUBLISHED-TTL:PT1H
BEGIN:VTIMEZONE
TZID:Europe/Berlin
BEGIN:DAYLIGHT
TZOFFSETFROM:+0100
TZOFFSETTO:+0200
TZNAME:CEST
DTSTART:20260329T010000
END:DAYLIGHT
BEGIN:STANDARD
TZOFFSETFROM:+0200
TZOFFSETTO:+0100
TZNAME:CET
DTSTART:20261025T010000
END:STANDARD
END:VTIMEZONE
BEGIN:VEVENT
DTSTART;TZID=Europe/Berlin:20260421T180000
DTEND;TZID=Europe/Berlin:20260421T193000
DTSTAMP:20260421T193002
CREATED:20260127T083009Z
LAST-MODIFIED:20260317T141540Z
UID:12343-1776794400-1776799800@coschwa.de
SUMMARY:JFV D2 - TuS Ellmendingen
DESCRIPTION:
URL:https://coschwa.de/event/jfv-d2-tus-ellmendingen/
LOCATION:Sportplatz\, Am Sportplatz\, Straubenhardt\, 75334\, Deutschland
ORGANIZER;CN="JFV%20Straubenhardt":MAILTO:fussball.armenia@gmail.com
END:VEVENT
BEGIN:VEVENT
DTSTART;TZID=Europe/Berlin:20260418T150000
DTEND;TZID=Europe/Berlin:20260418T170000
DTSTAMP:20260421T193002
CREATED:20260127T075122Z
LAST-MODIFIED:20260127T075122Z
UID:12326-1776524400-1776531600@coschwa.de
SUMMARY:Heimspiel B2-Junioren
DESCRIPTION:
URL:https://coschwa.de/event/heimspiel-b2-junioren-3/
LOCATION:Sportplatz\, Am Sportplatz\, Straubenhardt\, 75334\, Deutschland
END:VEVENT
BEGIN:VEVENT
DTSTART;TZID=Europe/Berlin:20260414T191500
DTEND;TZID=Europe/Berlin:20260414T203000
DTSTAMP:20260421T193002
CREATED:20260402T073718Z
LAST-MODIFIED:20260402T073718Z
UID:12744-1776194100-1776198600@coschwa.de
SUMMARY:JFV D1/D2 Inforunde Saison 26/27
DESCRIPTION:
URL:https://coschwa.de/event/jfv-d1-d2-inforunde-saison-26-27/
LOCATION:Clubheim\, Am Sportplatz\, Straubenhardt\, 75334\, Deutschland
ORGANIZER;CN="JFV%20Straubenhardt":MAILTO:fussball.armenia@gmail.com
END:VEVENT
BEGIN:VEVENT
DTSTART;TZID=Europe/Berlin:20260411T150000
DTEND;TZID=Europe/Berlin:20260411T210000
DTSTAMP:20260421T193002
CREATED:20260316T134156Z
LAST-MODIFIED:20260316T134156Z
UID:12650-1775919600-1775941200@coschwa.de
SUMMARY:Darts DSAB heim
DESCRIPTION:
URL:https://coschwa.de/event/darts-dsab-heim-2/
LOCATION:Clubheim\, Am Sportplatz\, Straubenhardt\, 75334\, Deutschland
END:VEVENT
BEGIN:VEVENT
DTSTART;TZID=Europe/Berlin:20260411T103000
DTEND;TZID=Europe/Berlin:20260411T130000
DTSTAMP:20260421T193002
CREATED:20260127T082654Z
LAST-MODIFIED:20260127T082654Z
UID:12337-1775903400-1775912400@coschwa.de
SUMMARY:JFV D2 - FC Alem. Wilferdingen
DESCRIPTION:
URL:https://coschwa.de/event/jfv-d2-fc-alem-wilferdingen/
LOCATION:Sportplatz\, Am Sportplatz\, Straubenhardt\, 75334\, Deutschland
ORGANIZER;CN="JFV%20Straubenhardt":MAILTO:fussball.armenia@gmail.com
END:VEVENT
BEGIN:VEVENT
DTSTART;TZID=Europe/Berlin:20260410T200000
DTEND;TZID=Europe/Berlin:20260410T200000
DTSTAMP:20260421T193002
CREATED:20250830T125348Z
LAST-MODIFIED:20250830T125348Z
UID:11083-1775851200-1775851200@coschwa.de
SUMMARY:Steel Darts (die Erste) vs Rastatt
DESCRIPTION:
URL:https://coschwa.de/event/steel-darts-die-erste-vs-rastatt/
LOCATION:Clubheim\, Am Sportplatz\, Straubenhardt\, 75334\, Deutschland
END:VEVENT
BEGIN:VEVENT
DTSTART;TZID=Europe/Berlin:20260409T180000
DTEND;TZID=Europe/Berlin:20260409T220000
DTSTAMP:20260421T193002
CREATED:20251024T082429Z
LAST-MODIFIED:20251024T082429Z
UID:11477-1775757600-1775772000@coschwa.de
SUMMARY:Rostbratenessen
DESCRIPTION:
URL:https://coschwa.de/event/rostbratenessen-3/
END:VEVENT
BEGIN:VEVENT
DTSTART;TZID=Europe/Berlin:20260404T150000
DTEND;TZID=Europe/Berlin:20260404T210000
DTSTAMP:20260421T193002
CREATED:20260401T091403Z
LAST-MODIFIED:20260401T091403Z
UID:12741-1775314800-1775336400@coschwa.de
SUMMARY:Geburtstagsfeier - Vermietung an Rodolfo Jakubowski
DESCRIPTION:
URL:https://coschwa.de/event/geburtstagsfeier-vermietung-an-rodolfo-jakubowski/
LOCATION:Clubheim\, Am Sportplatz\, Straubenhardt\, 75334\, Deutschland
END:VEVENT
BEGIN:VEVENT
DTSTART;TZID=Europe/Berlin:20260403T193000
DTEND;TZID=Europe/Berlin:20260403T213000
DTSTAMP:20260421T193002
CREATED:20250830T124924Z
LAST-MODIFIED:20250830T124924Z
UID:11067-1775244600-1775251800@coschwa.de
SUMMARY:BWEDL Heim vs Alla Häeeehr
DESCRIPTION:
URL:https://coschwa.de/event/bwedl-heim-vs-alla-haeeeehr/
LOCATION:Clubheim\, Am Sportplatz\, Straubenhardt\, 75334\, Deutschland
END:VEVENT
BEGIN:VEVENT
DTSTART;TZID=Europe/Berlin:20260402T200000
DTEND;TZID=Europe/Berlin:20260402T200000
DTSTAMP:20260421T193002
CREATED:20250830T125908Z
LAST-MODIFIED:20250830T125908Z
UID:11103-1775160000-1775160000@coschwa.de
SUMMARY:Steel Darts (die Zweite) vs Singen
DESCRIPTION:
URL:https://coschwa.de/event/steel-darts-die-zweite-vs-singen/
LOCATION:Clubheim\, Am Sportplatz\, Straubenhardt\, 75334\, Deutschland
END:VEVENT
BEGIN:VEVENT
DTSTART;TZID=Europe/Berlin:20260329T110000
DTEND;TZID=Europe/Berlin:20260329T180000
DTSTAMP:20260421T193002
CREATED:20251121T075600Z
LAST-MODIFIED:20260306T085923Z
UID:11815-1774782000-1774807200@coschwa.de
SUMMARY:Rostbratenessen
DESCRIPTION:
URL:https://coschwa.de/event/rostbratenessen-7/
END:VEVENT
BEGIN:VEVENT
DTSTART;TZID=Europe/Berlin:20260328T150000
DTEND;TZID=Europe/Berlin:20260328T170000
DTSTAMP:20260421T193002
CREATED:20260127T074810Z
LAST-MODIFIED:20260127T074810Z
UID:12324-1774710000-1774717200@coschwa.de
SUMMARY:Heimspiel B2-Junioren
DESCRIPTION:
URL:https://coschwa.de/event/heimspiel-b2-junioren-2/
LOCATION:Sportplatz\, Am Sportplatz\, Straubenhardt\, 75334\, Deutschland
END:VEVENT
BEGIN:VEVENT
DTSTART;TZID=Europe/Berlin:20260328T103000
DTEND;TZID=Europe/Berlin:20260328T130000
DTSTAMP:20260421T193002
CREATED:20260127T082549Z
LAST-MODIFIED:20260127T082549Z
UID:12335-1774693800-1774702800@coschwa.de
SUMMARY:JFV D2 -  1.CfR Pforzheim
DESCRIPTION:
URL:https://coschwa.de/event/jfv-d2-1-cfr-pforzheim/
LOCATION:Sportplatz\, Am Sportplatz\, Straubenhardt\, 75334\, Deutschland
ORGANIZER;CN="JFV%20Straubenhardt":MAILTO:fussball.armenia@gmail.com
END:VEVENT
BEGIN:VEVENT
DTSTART;TZID=Europe/Berlin:20260327T193000
DTEND;TZID=Europe/Berlin:20260327T220000
DTSTAMP:20260421T193002
CREATED:20251024T082320Z
LAST-MODIFIED:20251024T082320Z
UID:11475-1774639800-1774648800@coschwa.de
SUMMARY:Jahreshauptversammlung
DESCRIPTION:
URL:https://coschwa.de/event/jahreshauptversammlung/
LOCATION:Clubheim\, Am Sportplatz\, Straubenhardt\, 75334\, Deutschland
END:VEVENT
BEGIN:VEVENT
DTSTART;TZID=Europe/Berlin:20260325T183000
DTEND;TZID=Europe/Berlin:20260325T183000
DTSTAMP:20260421T193002
CREATED:20260127T083953Z
LAST-MODIFIED:20260127T083953Z
UID:12345-1774463400-1774463400@coschwa.de
SUMMARY:B-Junioren Heimspiel Kreispokal
DESCRIPTION:
URL:https://coschwa.de/event/b-junioren-heimspiel-kreispokal/
LOCATION:Sportplatz\, Am Sportplatz\, Straubenhardt\, 75334\, Deutschland
END:VEVENT
BEGIN:VEVENT
DTSTART;TZID=Europe/Berlin:20260321T150000
DTEND;TZID=Europe/Berlin:20260321T210000
DTSTAMP:20260421T193002
CREATED:20260316T134129Z
LAST-MODIFIED:20260316T134129Z
UID:12648-1774105200-1774126800@coschwa.de
SUMMARY:Darts DSAB heim
DESCRIPTION:
URL:https://coschwa.de/event/darts-dsab-heim/
LOCATION:Clubheim\, Am Sportplatz\, Straubenhardt\, 75334\, Deutschland
END:VEVENT
BEGIN:VEVENT
DTSTART;TZID=Europe/Berlin:20260314T150000
DTEND;TZID=Europe/Berlin:20260314T150000
DTSTAMP:20260421T193002
CREATED:20260127T074451Z
LAST-MODIFIED:20260127T074451Z
UID:12320-1773500400-1773500400@coschwa.de
SUMMARY:Heimspiel B2-Junioren
DESCRIPTION:
URL:https://coschwa.de/event/heimspiel-b2-junioren/
LOCATION:Sportplatz\, Am Sportplatz\, Straubenhardt\, 75334\, Deutschland
END:VEVENT
BEGIN:VEVENT
DTSTART;TZID=Europe/Berlin:20260313T193000
DTEND;TZID=Europe/Berlin:20260313T220000
DTSTAMP:20260421T193002
CREATED:20251024T081052Z
LAST-MODIFIED:20251024T081618Z
UID:11463-1773430200-1773439200@coschwa.de
SUMMARY:Jahreshauptversammlung Förderverein
DESCRIPTION:
URL:https://coschwa.de/event/fruehjahrsschlachtfest-2/
LOCATION:Rössle\, Neuenbürger Straße 1\, Straubenhardt\, 75334\, Deutschland
END:VEVENT
BEGIN:VEVENT
DTSTART;TZID=Europe/Berlin:20260311T180000
DTEND;TZID=Europe/Berlin:20260311T220000
DTSTAMP:20260421T193002
CREATED:20260224T143821Z
LAST-MODIFIED:20260224T143840Z
UID:12530-1773252000-1773266400@coschwa.de
SUMMARY:Ausschuss: Event-Planung NBG
DESCRIPTION:AP: Mike Rohrer
URL:https://coschwa.de/event/ausschuss-event-planung-nbg/
LOCATION:Clubheim\, Am Sportplatz\, Straubenhardt\, 75334\, Deutschland
END:VEVENT
BEGIN:VEVENT
DTSTART;TZID=Europe/Berlin:20260311T180000
DTEND;TZID=Europe/Berlin:20260311T200000
DTSTAMP:20260421T193002
CREATED:20260127T082422Z
LAST-MODIFIED:20260130T071334Z
UID:12333-1773252000-1773259200@coschwa.de
SUMMARY:JFV D2 - FSV Buckenberg
DESCRIPTION:
URL:https://coschwa.de/event/jfv-d2-fsv-buckenberg/
LOCATION:Sportplatz\, Am Sportplatz\, Straubenhardt\, 75334\, Deutschland
ORGANIZER;CN="JFV%20Straubenhardt":MAILTO:fussball.armenia@gmail.com
END:VEVENT
BEGIN:VEVENT
DTSTART;TZID=Europe/Berlin:20260307T090000
DTEND;TZID=Europe/Berlin:20260307T150000
DTSTAMP:20260421T193002
CREATED:20260116T194157Z
LAST-MODIFIED:20260116T194157Z
UID:12249-1772874000-1772895600@coschwa.de
SUMMARY:B2 Junioren Training/Essen im Clubhaus
DESCRIPTION:
URL:https://coschwa.de/event/b2-junioren-training-essen-im-clubhaus/
END:VEVENT
BEGIN:VEVENT
DTSTART;TZID=Europe/Berlin:20260306T200000
DTEND;TZID=Europe/Berlin:20260306T200000
DTSTAMP:20260421T193002
CREATED:20250830T125843Z
LAST-MODIFIED:20250830T125843Z
UID:11101-1772827200-1772827200@coschwa.de
SUMMARY:Steel Darts (die Zweite) vs Yellow Lions
DESCRIPTION:
URL:https://coschwa.de/event/steel-darts-die-zweite-vs-yellow-lions/
LOCATION:Clubheim\, Am Sportplatz\, Straubenhardt\, 75334\, Deutschland
END:VEVENT
BEGIN:VEVENT
DTSTART;TZID=Europe/Berlin:20260304T200000
DTEND;TZID=Europe/Berlin:20260304T220000
DTSTAMP:20260421T193002
CREATED:20260226T101136Z
LAST-MODIFIED:20260226T101136Z
UID:12540-1772654400-1772661600@coschwa.de
SUMMARY:Vorstandssitzung
DESCRIPTION:
URL:https://coschwa.de/event/vorstandssitzung-2/
LOCATION:Clubheim\, Am Sportplatz\, Straubenhardt\, 75334\, Deutschland
END:VEVENT
BEGIN:VEVENT
DTSTART;TZID=Europe/Berlin:20260303T173000
DTEND;TZID=Europe/Berlin:20260303T184500
DTSTAMP:20260421T193002
CREATED:20251107T131817Z
LAST-MODIFIED:20251107T131849Z
UID:11696-1772559000-1772563500@coschwa.de
SUMMARY:Testspiel JFV D2-JFV E1
DESCRIPTION:
URL:https://coschwa.de/event/testspiel-jfv-d2-jfv-e1/
LOCATION:Sportplatz\, Am Sportplatz\, Straubenhardt\, 75334\, Deutschland
ORGANIZER;CN="JFV%20Straubenhardt":MAILTO:fussball.armenia@gmail.com
END:VEVENT
BEGIN:VEVENT
DTSTART;TZID=Europe/Berlin:20260228T183000
DTEND;TZID=Europe/Berlin:20260228T233000
DTSTAMP:20260421T193002
CREATED:20260202T171548Z
LAST-MODIFIED:20260202T171548Z
UID:12382-1772303400-1772321400@coschwa.de
SUMMARY:Darts Kratzer Turnier
DESCRIPTION:
URL:https://coschwa.de/event/darts-kratzer-turnier/
LOCATION:Clubheim\, Am Sportplatz\, Straubenhardt\, 75334\, Deutschland
END:VEVENT
BEGIN:VEVENT
DTSTART;TZID=Europe/Berlin:20260227T200000
DTEND;TZID=Europe/Berlin:20260227T220000
DTSTAMP:20260421T193002
CREATED:20250830T124844Z
LAST-MODIFIED:20250830T124844Z
UID:11065-1772222400-1772229600@coschwa.de
SUMMARY:BWEDL Heim vs Irish
DESCRIPTION:
URL:https://coschwa.de/event/bwedl-heim-vs-irish/
LOCATION:Clubheim\, Am Sportplatz\, Straubenhardt\, 75334\, Deutschland
END:VEVENT
BEGIN:VEVENT
DTSTART;TZID=Europe/Berlin:20260224T171500
DTEND;TZID=Europe/Berlin:20260224T184500
DTSTAMP:20260421T193002
CREATED:20251107T131535Z
LAST-MODIFIED:20251107T131721Z
UID:11692-1771953300-1771958700@coschwa.de
SUMMARY:Trainingsauftakt JFV D2
DESCRIPTION:
URL:https://coschwa.de/event/trainingsauftakt-jfv-d2/
LOCATION:Sportplatz\, Am Sportplatz\, Straubenhardt\, 75334\, Deutschland
ORGANIZER;CN="JFV%20Straubenhardt":MAILTO:fussball.armenia@gmail.com
END:VEVENT
BEGIN:VEVENT
DTSTART;TZID=Europe/Berlin:20260221T100000
DTEND;TZID=Europe/Berlin:20260222T190000
DTSTAMP:20260421T193002
CREATED:20251024T082209Z
LAST-MODIFIED:20260111T201434Z
UID:11473-1771668000-1771786800@coschwa.de
SUMMARY:Frühjahrsschlachtfest
DESCRIPTION:
URL:https://coschwa.de/event/fruehjahrsschlachtfest-kreispokalhalbfinale/
LOCATION:Clubheim\, Am Sportplatz\, Straubenhardt\, 75334\, Deutschland
END:VEVENT
BEGIN:VEVENT
DTSTART;TZID=Europe/Berlin:20260218T200000
DTEND;TZID=Europe/Berlin:20260218T223000
DTSTAMP:20260421T193002
CREATED:20260210T213325Z
LAST-MODIFIED:20260210T213325Z
UID:12429-1771444800-1771453800@coschwa.de
SUMMARY:Sportliche Leiter Sitzung (JFV)
DESCRIPTION: 
URL:https://coschwa.de/event/sportliche-leiter-sitzung-jfv/
LOCATION:Clubheim\, Am Sportplatz\, Straubenhardt\, 75334\, Deutschland
END:VEVENT
BEGIN:VEVENT
DTSTART;TZID=Europe/Berlin:20260213T120000
DTEND;TZID=Europe/Berlin:20260214T120000
DTSTAMP:20260421T193002
CREATED:20260111T200738Z
LAST-MODIFIED:20260111T200746Z
UID:12213-1770984000-1771070400@coschwa.de
SUMMARY:Clubheim vermietet
DESCRIPTION:Robert Hozjan | AP: Edgar Huber
URL:https://coschwa.de/event/clubheim-vermietet-15/
LOCATION:Clubheim\, Am Sportplatz\, Straubenhardt\, 75334\, Deutschland
END:VEVENT
END:VCALENDAR